BEGIN:VCALENDAR
VERSION:2.0
PRODID:-//Elmalı Konak Dondurma - ECPv6.15.19//NONSGML v1.0//EN
CALSCALE:GREGORIAN
METHOD:PUBLISH
X-ORIGINAL-URL:https://elmalikonakdondurma.com
X-WR-CALDESC:Elmalı Konak Dondurma için etkinlikler
REFRESH-INTERVAL;VALUE=DURATION:PT1H
X-Robots-Tag:noindex
X-PUBLISHED-TTL:PT1H
BEGIN:VTIMEZONE
TZID:UTC
BEGIN:STANDARD
TZOFFSETFROM:+0000
TZOFFSETTO:+0000
TZNAME:UTC
DTSTART:20250101T000000
END:STANDARD
END:VTIMEZONE
BEGIN:VEVENT
DTSTART;TZID=UTC:20260423T103000
DTEND;TZID=UTC:20260423T103000
DTSTAMP:20260421T075847
CREATED:20260420T173952Z
LAST-MODIFIED:20260420T180433Z
UID:10000006-1776940200-1776940200@elmalikonakdondurma.com
SUMMARY:23 Nisan'da Küçük Ustalar Çiftlikte!
DESCRIPTION:23 Nisan’da çocuklar için eğlenceli ve öğretici bir gün sizi bekliyor! Küçük Ustalar etkinliğinde\, üretimden gastronomiye ve kültüre uzanan atölyelerle çocuklar hem öğrenecek hem de keyifli vakit geçirecek. Doğayla iç içe\, ailece katılabileceğiniz bu özel günde yaratıcılık ve keşif ön planda olacak.
URL:https://elmalikonakdondurma.com/etkinlik/23-nisanda-kucuk-ustalar-ciftlikte/
LOCATION:Konak Dondurma Çiftliği – Elmalı\, Bayralar Köyü Elmalı\, Antalya\, Antalya\, Turkey
CATEGORIES:Çiftlik Aktiviteleri,Özel Günler
ATTACH;FMTTYPE=image/jpeg:https://elmalikonakdondurma.com/wp-content/uploads/2026/04/23-nisan-Etkinlik-Post-web.jpg.jpeg
ORGANIZER;CN="Konak Dondurma At%C3%B6lye Ekibi":MAILTO:info@konakdondurma.com
END:VEVENT
BEGIN:VEVENT
DTSTART;TZID=UTC:20260516T143000
DTEND;TZID=UTC:20260516T143000
DTSTAMP:20260421T075847
CREATED:20260420T174446Z
LAST-MODIFIED:20260420T180305Z
UID:10000007-1778941800-1778941800@elmalikonakdondurma.com
SUMMARY:ABÜ Aşçılık Meslek Yüksek Okulu X Maide
DESCRIPTION:ABÜ Aşçılık Meslek Yüksekokulu ve Maide iş birliğiyle düzenlenen bu özel etkinlikte\, gastronomi dünyasının genç yetenekleri üretim\, lezzet ve kültürün buluştuğu çiftlikte bir araya geliyor. Katılımcılar\, uygulamalı deneyimler ve ilham verici paylaşımlarla dolu keyifli bir gün yaşayacak.
URL:https://elmalikonakdondurma.com/etkinlik/abu-ascilik-meslek-yuksek-okulu-x-maide/
LOCATION:Konak Dondurma Çiftliği – Elmalı\, Bayralar Köyü Elmalı\, Antalya\, Antalya\, Turkey
CATEGORIES:Çiftlik Aktiviteleri,Workshoplar
ATTACH;FMTTYPE=image/jpeg:https://elmalikonakdondurma.com/wp-content/uploads/2026/04/ascilik-okulu-Etkinlik-Post-web.jpg.jpeg
ORGANIZER;CN="Konak Dondurma At%C3%B6lye Ekibi":MAILTO:info@konakdondurma.com
END:VEVENT
BEGIN:VEVENT
DTSTART;TZID=UTC:20260523T180000
DTEND;TZID=UTC:20260523T180000
DTSTAMP:20260421T075847
CREATED:20260420T174820Z
LAST-MODIFIED:20260420T180347Z
UID:10000008-1779559200-1779559200@elmalikonakdondurma.com
SUMMARY:Şef Berk Gür X Maide
DESCRIPTION:Şef Berk Gür ve Maide iş birliğiyle gerçekleşecek bu özel etkinlikte\, gastronomi tutkunları üretimden sofraya uzanan ilham verici bir deneyime davet ediliyor. Çiftlik ortamında gerçekleşecek buluşmada\, lezzet\, yaratıcılık ve kültür bir araya geliyor.
URL:https://elmalikonakdondurma.com/etkinlik/sef-berk-gur-x-maide/
LOCATION:Konak Dondurma Çiftliği – Elmalı\, Bayralar Köyü Elmalı\, Antalya\, Antalya\, Turkey
CATEGORIES:Çiftlik Aktiviteleri
ATTACH;FMTTYPE=image/jpeg:https://elmalikonakdondurma.com/wp-content/uploads/2026/04/Berk-Gur-Etkinlik-Post-web.jpg.jpeg
ORGANIZER;CN="Konak Dondurma At%C3%B6lye Ekibi":MAILTO:info@konakdondurma.com
END:VEVENT
END:VCALENDAR